BEGIN:VCALENDAR
VERSION:2.0
PRODID:-//time.now/holidays//NONSGML v1.0//EN
BEGIN:VEVENT
UID:ca32dae9-4cb0-4428-98ee-a979abd72796
DTSTAMP:20260420T172046Z
DTSTART;VALUE=DATE:20260810
SUMMARY:Zimbabwe Heroes' Day (Zimbabwe)
END:VEVENT
END:VCALENDAR