BEGIN:VCALENDAR
VERSION:2.0
PRODID:-//time.now/holidays//NONSGML v1.0//EN
BEGIN:VEVENT
UID:c6a9a66c-9242-467e-82cb-cf098783885e
DTSTAMP:20260420T023115Z
DTSTART;VALUE=DATE:20260501
SUMMARY:Workers' Day (Zimbabwe)
END:VEVENT
END:VCALENDAR