BEGIN:VCALENDAR
VERSION:2.0
PRODID:-//time.now/holidays//NONSGML v1.0//EN
BEGIN:VEVENT
UID:51aaec60-ba47-4e5d-bf67-3ec0ec3b3a4c
DTSTAMP:20260420T173212Z
DTSTART;VALUE=DATE:20340102
SUMMARY:New Year's Day (observed) (Zimbabwe)
END:VEVENT
END:VCALENDAR