BEGIN:VCALENDAR
VERSION:2.0
PRODID:-//time.now/holidays//NONSGML v1.0//EN
BEGIN:VEVENT
UID:6d2b7728-0935-459c-b32a-605a4e053f21
DTSTAMP:20260420T041329Z
DTSTART;VALUE=DATE:20260418
SUMMARY:Independence Day (Zimbabwe)
END:VEVENT
END:VCALENDAR