BEGIN:VCALENDAR
VERSION:2.0
PRODID:-//time.now/holidays//NONSGML v1.0//EN
BEGIN:VEVENT
UID:1ed93235-f497-4dc7-b64e-0514eb7bf579
DTSTAMP:20260420T012218Z
DTSTART;VALUE=DATE:20260406
SUMMARY:Easter Monday (Zimbabwe)
END:VEVENT
END:VCALENDAR