BEGIN:VCALENDAR
VERSION:2.0
PRODID:-//time.now/holidays//NONSGML v1.0//EN
BEGIN:VEVENT
UID:f5a6b569-0e09-4ff3-8981-5556de338789
DTSTAMP:20260420T162044Z
DTSTART;VALUE=DATE:20331227
SUMMARY:Christmas Day (observed) (Zimbabwe)
END:VEVENT
END:VCALENDAR