BEGIN:VCALENDAR
VERSION:2.0
PRODID:-//time.now/holidays//NONSGML v1.0//EN
BEGIN:VEVENT
UID:49cefd66-0e6e-4512-8d39-3cd0a92f62bc
DTSTAMP:20260420T114530Z
DTSTART;VALUE=DATE:20271227
SUMMARY:Boxing Day (observed) (Zimbabwe)
END:VEVENT
END:VCALENDAR