BEGIN:VCALENDAR
VERSION:2.0
PRODID:-//time.now/holidays//NONSGML v1.0//EN
BEGIN:VEVENT
UID:953a5df8-60c0-4f2b-ad7a-af54a461b2de
DTSTAMP:20260422T193056Z
DTSTART;VALUE=DATE:20260525
SUMMARY:Africa Day (Zimbabwe)
END:VEVENT
END:VCALENDAR