BEGIN:VCALENDAR
VERSION:2.0
PRODID:-//time.now/holidays//NONSGML v1.0//EN
BEGIN:VEVENT
UID:4867cfdd-d7f6-4943-a3b7-f233187d965c
DTSTAMP:20260420T195657Z
DTSTART;VALUE=DATE:20260312
SUMMARY:Youth Day (Zambie)
END:VEVENT
END:VCALENDAR