BEGIN:VCALENDAR
VERSION:2.0
PRODID:-//time.now/holidays//NONSGML v1.0//EN
BEGIN:VEVENT
UID:6397bbae-685a-4a5d-9762-fdea5b9dcbbc
DTSTAMP:20260420T191244Z
DTSTART;VALUE=DATE:20260101
SUMMARY:New Year's Day (Zambie)
END:VEVENT
END:VCALENDAR