BEGIN:VCALENDAR
VERSION:2.0
PRODID:-//time.now/holidays//NONSGML v1.0//EN
BEGIN:VEVENT
UID:ebe08c9f-8188-44c3-af9c-000788089b99
DTSTAMP:20260420T091523Z
DTSTART;VALUE=DATE:20260403
SUMMARY:Good Friday (Zambie)
END:VEVENT
END:VCALENDAR