BEGIN:VCALENDAR
VERSION:2.0
PRODID:-//time.now/holidays//NONSGML v1.0//EN
BEGIN:VEVENT
UID:5647dad8-be72-4ef1-9a7b-64d4cfdf3e7a
DTSTAMP:20260420T082154Z
DTSTART;VALUE=DATE:20210812
SUMMARY:General elections (Zambie)
END:VEVENT
END:VCALENDAR