BEGIN:VCALENDAR
VERSION:2.0
PRODID:-//time.now/holidays//NONSGML v1.0//EN
BEGIN:VEVENT
UID:6a936daf-6904-4aa7-932c-eb8764784450
DTSTAMP:20260422T091718Z
DTSTART;VALUE=DATE:20310526
SUMMARY:Africa Freedom Day (observed) (Zambie)
END:VEVENT
END:VCALENDAR