BEGIN:VCALENDAR
VERSION:2.0
PRODID:-//time.now/holidays//NONSGML v1.0//EN
BEGIN:VEVENT
UID:46d70bdd-78a9-46ec-b852-4cb54d4d1cfb
DTSTAMP:20260420T010907Z
DTSTART;VALUE=DATE:20260522
SUMMARY:Unity Day (Yémen)
END:VEVENT
END:VCALENDAR