BEGIN:VCALENDAR
VERSION:2.0
PRODID:-//time.now/holidays//NONSGML v1.0//EN
BEGIN:VEVENT
UID:42c3ba3e-3a6c-4d8c-b191-0bead675be8b
DTSTAMP:20260420T051007Z
DTSTART;VALUE=DATE:20260524
SUMMARY:Unity Day (observed) (Yémen)
END:VEVENT
END:VCALENDAR