BEGIN:VCALENDAR
VERSION:2.0
PRODID:-//time.now/holidays//NONSGML v1.0//EN
BEGIN:VEVENT
UID:d96a6aee-3164-45ed-8acb-8daa6c5e4c69
DTSTAMP:20260420T182205Z
DTSTART;VALUE=DATE:20260926
SUMMARY:Revolution Day (Yémen)
END:VEVENT
END:VCALENDAR