BEGIN:VCALENDAR
VERSION:2.0
PRODID:-//time.now/holidays//NONSGML v1.0//EN
BEGIN:VEVENT
UID:de4c9c56-4bd5-47f7-b6a7-92087ebc15a9
DTSTAMP:20260420T173815Z
DTSTART;VALUE=DATE:20260503
SUMMARY:Labor Day (observed) (Yémen)
END:VEVENT
END:VCALENDAR