BEGIN:VCALENDAR
VERSION:2.0
PRODID:-//time.now/holidays//NONSGML v1.0//EN
BEGIN:VEVENT
UID:ba932f9f-c117-4b19-8ebd-c9baaf1b7b9c
DTSTAMP:20260420T141012Z
DTSTART;VALUE=DATE:20261130
SUMMARY:Independence Day (Yémen)
END:VEVENT
END:VCALENDAR