BEGIN:VCALENDAR
VERSION:2.0
PRODID:-//time.now/holidays//NONSGML v1.0//EN
BEGIN:VEVENT
UID:0b42d269-7c7d-478d-9697-07d7fb3ffa6b
DTSTAMP:20260420T215209Z
DTSTART;VALUE=DATE:20240414
SUMMARY:Eid al-Fitr (observed) (Yémen)
END:VEVENT
END:VCALENDAR