BEGIN:VCALENDAR
VERSION:2.0
PRODID:-//time.now/holidays//NONSGML v1.0//EN
BEGIN:VEVENT
UID:baefb4f1-312e-4293-8626-fe2a183056ed
DTSTAMP:20260422T090128Z
DTSTART;VALUE=DATE:20220501
SUMMARY:Eid al-Fitr; Labor Day (Yémen)
END:VEVENT
END:VCALENDAR