BEGIN:VCALENDAR
VERSION:2.0
PRODID:-//time.now/holidays//NONSGML v1.0//EN
BEGIN:VEVENT
UID:76e34692-fd29-464c-ac06-2af29016211e
DTSTAMP:20260420T191243Z
DTSTART;VALUE=DATE:20260419
SUMMARY:Declaration of Independence (Venezuela)
END:VEVENT
END:VCALENDAR