BEGIN:VCALENDAR
VERSION:2.0
PRODID:-//time.now/holidays//NONSGML v1.0//EN
BEGIN:VEVENT
UID:601b24f6-37fb-4232-93b6-f1c77659cedb
DTSTAMP:20260422T151413Z
DTSTART;VALUE=DATE:20261231
SUMMARY:Last Day of the Year (Cité du Vatican)
END:VEVENT
END:VCALENDAR