BEGIN:VCALENDAR
VERSION:2.0
PRODID:-//time.now/holidays//NONSGML v1.0//EN
BEGIN:VEVENT
UID:c1851090-e599-44ae-b241-7c8a620e1ad2
DTSTAMP:20260420T061339Z
DTSTART;VALUE=DATE:20260106
SUMMARY:Epiphany (Cité du Vatican)
END:VEVENT
END:VCALENDAR