BEGIN:VCALENDAR
VERSION:2.0
PRODID:-//time.now/holidays//NONSGML v1.0//EN
BEGIN:VEVENT
UID:f1624768-03c0-4d80-96eb-3db1ce6d4c09
DTSTAMP:20260420T014359Z
DTSTART;VALUE=DATE:20260406
SUMMARY:Easter Monday (Cité du Vatican)
END:VEVENT
END:VCALENDAR