BEGIN:VCALENDAR
VERSION:2.0
PRODID:-//time.now/holidays//NONSGML v1.0//EN
BEGIN:VEVENT
UID:dd40cdc8-1390-458b-bcc1-566906dc2e0a
DTSTAMP:20260421T041041Z
DTSTART;VALUE=DATE:20260211
SUMMARY:Anniversary of the Foundation of Vatican City (Cité du Vatican)
END:VEVENT
END:VCALENDAR