BEGIN:VCALENDAR
VERSION:2.0
PRODID:-//time.now/holidays//NONSGML v1.0//EN
BEGIN:VEVENT
UID:117c3b1b-41de-4f40-9287-91cf7065ff69
DTSTAMP:20260420T054411Z
DTSTART;VALUE=DATE:20280731
SUMMARY:Independence Day (observed) (Vanuatu)
END:VEVENT
END:VCALENDAR