BEGIN:VCALENDAR
VERSION:2.0
PRODID:-//time.now/holidays//NONSGML v1.0//EN
BEGIN:VEVENT
UID:3c544552-9939-4f69-b292-5d76bc1c955f
DTSTAMP:20260420T014934Z
DTSTART;VALUE=DATE:20260403
SUMMARY:Good Friday (Vanuatu)
END:VEVENT
END:VCALENDAR