BEGIN:VCALENDAR
VERSION:2.0
PRODID:-//time.now/holidays//NONSGML v1.0//EN
BEGIN:VEVENT
UID:b2b3f4ad-da69-4191-b215-2f3d877cd2f9
DTSTAMP:20260420T185124Z
DTSTART;VALUE=DATE:20270222
SUMMARY:Father Lini Day (observed) (Vanuatu)
END:VEVENT
END:VCALENDAR