BEGIN:VCALENDAR
VERSION:2.0
PRODID:-//time.now/holidays//NONSGML v1.0//EN
BEGIN:VEVENT
UID:9c6c59a2-e1d5-4727-bb82-1156a3c29931
DTSTAMP:20260420T184618Z
DTSTART;VALUE=DATE:20261226
SUMMARY:Family Day (Vanuatu)
END:VEVENT
END:VCALENDAR