BEGIN:VCALENDAR
VERSION:2.0
PRODID:-//time.now/holidays//NONSGML v1.0//EN
BEGIN:VEVENT
UID:8bd1f7cf-6926-4bbf-b5f3-eed6de01e97b
DTSTAMP:20260422T193217Z
DTSTART;VALUE=DATE:20271227
SUMMARY:Family Day (observed) (Vanuatu)
END:VEVENT
END:VCALENDAR