BEGIN:VCALENDAR
VERSION:2.0
PRODID:-//time.now/holidays//NONSGML v1.0//EN
BEGIN:VEVENT
UID:77cf1237-d0b3-4a51-a72d-d4c261a9f7f7
DTSTAMP:20260420T090408Z
DTSTART;VALUE=DATE:20280306
SUMMARY:Custom Chief's Day (observed) (Vanuatu)
END:VEVENT
END:VCALENDAR