BEGIN:VCALENDAR
VERSION:2.0
PRODID:-//time.now/holidays//NONSGML v1.0//EN
BEGIN:VEVENT
UID:abad8259-14eb-4693-935d-d0b67ae7a11d
DTSTAMP:20260419T195554Z
DTSTART;VALUE=DATE:20261005
SUMMARY:Constitution Day (Vanuatu)
END:VEVENT
END:VCALENDAR