BEGIN:VCALENDAR
VERSION:2.0
PRODID:-//time.now/holidays//NONSGML v1.0//EN
BEGIN:VEVENT
UID:61b44e13-c781-4c21-88da-6f1538ddb616
DTSTAMP:20260422T101211Z
DTSTART;VALUE=DATE:20260308
SUMMARY:Women's Day (Ouzbékistan)
END:VEVENT
END:VCALENDAR