BEGIN:VCALENDAR
VERSION:2.0
PRODID:-//time.now/holidays//NONSGML v1.0//EN
BEGIN:VEVENT
UID:a7409d08-0376-4673-a153-1515aa8161ee
DTSTAMP:20260420T204056Z
DTSTART;VALUE=DATE:20260323
SUMMARY:Nowruz (observed) (Ouzbékistan)
END:VEVENT
END:VCALENDAR