BEGIN:VCALENDAR
VERSION:2.0
PRODID:-//time.now/holidays//NONSGML v1.0//EN
BEGIN:VEVENT
UID:9909dbda-ce4b-46ca-b7f1-7dadd2c22587
DTSTAMP:20260420T190409Z
DTSTART;VALUE=DATE:20260901
SUMMARY:Independence Day (Ouzbékistan)
END:VEVENT
END:VCALENDAR