BEGIN:VCALENDAR
VERSION:2.0
PRODID:-//time.now/holidays//NONSGML v1.0//EN
BEGIN:VEVENT
UID:44e0db6b-4080-49f0-86f3-ced32b9d3d5c
DTSTAMP:20260422T134442Z
DTSTART;VALUE=DATE:20260320
SUMMARY:Eid al-Fitr (estimated) (Ouzbékistan)
END:VEVENT
END:VCALENDAR