BEGIN:VCALENDAR
VERSION:2.0
PRODID:-//time.now/holidays//NONSGML v1.0//EN
BEGIN:VEVENT
UID:08f7cc6e-89b9-4e2f-a317-b1ccbe30f0a6
DTSTAMP:20260422T085954Z
DTSTART;VALUE=DATE:20270517
SUMMARY:Eid al-Adha (observed, estimated) (Ouzbékistan)
END:VEVENT
END:VCALENDAR