BEGIN:VCALENDAR
VERSION:2.0
PRODID:-//time.now/holidays//NONSGML v1.0//EN
BEGIN:VEVENT
UID:84f5ad51-03f4-44dc-a770-7b708fa376e3
DTSTAMP:20260424T203710Z
DTSTART;VALUE=DATE:20260509
SUMMARY:Day of Memory and Honor (Ouzbékistan)
END:VEVENT
END:VCALENDAR