BEGIN:VCALENDAR
VERSION:2.0
PRODID:-//time.now/holidays//NONSGML v1.0//EN
BEGIN:VEVENT
UID:da51c91f-90c8-4f6b-83b4-670a6699834e
DTSTAMP:20260420T141355Z
DTSTART;VALUE=DATE:20261208
SUMMARY:Constitution Day (Ouzbékistan)
END:VEVENT
END:VCALENDAR