BEGIN:VCALENDAR
VERSION:2.0
PRODID:-//time.now/holidays//NONSGML v1.0//EN
BEGIN:VEVENT
UID:b1d5006a-67df-4e3a-9a5b-9bebdedb8d88
DTSTAMP:20260420T170323Z
DTSTART;VALUE=DATE:20291210
SUMMARY:Constitution Day (observed) (Ouzbékistan)
END:VEVENT
END:VCALENDAR