BEGIN:VCALENDAR
VERSION:2.0
PRODID:-//time.now/holidays//NONSGML v1.0//EN
BEGIN:VEVENT
UID:42b2ffe4-4b70-4b5b-bb46-feaebdf4dadb
DTSTAMP:20260419T232328Z
DTSTART;VALUE=DATE:20260501
SUMMARY:Workers' Day (Uruguay)
END:VEVENT
END:VCALENDAR