BEGIN:VCALENDAR
VERSION:2.0
PRODID:-//time.now/holidays//NONSGML v1.0//EN
BEGIN:VEVENT
UID:602a58ce-28d3-44b0-bff9-08a9727c8ac8
DTSTAMP:20260420T064246Z
DTSTART;VALUE=DATE:20260825
SUMMARY:Independence Day (Uruguay)
END:VEVENT
END:VCALENDAR