BEGIN:VCALENDAR
VERSION:2.0
PRODID:-//time.now/holidays//NONSGML v1.0//EN
BEGIN:VEVENT
UID:e577a574-628f-44ec-ab0f-4fc5a30edbf0
DTSTAMP:20260422T092518Z
DTSTART;VALUE=DATE:20260216
SUMMARY:Washington and Lincoln Day (États-Unis)
END:VEVENT
END:VCALENDAR