BEGIN:VCALENDAR
VERSION:2.0
PRODID:-//time.now/holidays//NONSGML v1.0//EN
BEGIN:VEVENT
UID:b47d3375-a46d-4dce-9763-85e504669f83
DTSTAMP:20260420T194559Z
DTSTART;VALUE=DATE:20260810
SUMMARY:Victory Day (États-Unis)
END:VEVENT
END:VCALENDAR