BEGIN:VCALENDAR
VERSION:2.0
PRODID:-//time.now/holidays//NONSGML v1.0//EN
BEGIN:VEVENT
UID:ee220f0e-e2ee-4bf7-bf39-e647cf1fdaea
DTSTAMP:20260420T195604Z
DTSTART;VALUE=DATE:20261111
SUMMARY:Veterans Day (États-Unis)
END:VEVENT
END:VCALENDAR