BEGIN:VCALENDAR
VERSION:2.0
PRODID:-//time.now/holidays//NONSGML v1.0//EN
BEGIN:VEVENT
UID:79231da8-0131-4736-8581-a771f85aa347
DTSTAMP:20260420T211311Z
DTSTART;VALUE=DATE:20260302
SUMMARY:Texas Independence Day (États-Unis)
END:VEVENT
END:VCALENDAR