BEGIN:VCALENDAR
VERSION:2.0
PRODID:-//time.now/holidays//NONSGML v1.0//EN
BEGIN:VEVENT
UID:990d54bb-a7ba-4ef0-82df-201a6b5dd11d
DTSTAMP:20260422T091239Z
DTSTART;VALUE=DATE:20331230
SUMMARY:New Year's Eve (observed) (États-Unis)
END:VEVENT
END:VCALENDAR