BEGIN:VCALENDAR
VERSION:2.0
PRODID:-//time.now/holidays//NONSGML v1.0//EN
BEGIN:VEVENT
UID:5a23f35d-724b-4f1b-9188-03b909112009
DTSTAMP:20260420T230904Z
DTSTART;VALUE=DATE:20280717
SUMMARY:Manu'a Islands Cession Day (observed) (États-Unis)
END:VEVENT
END:VCALENDAR