BEGIN:VCALENDAR
VERSION:2.0
PRODID:-//time.now/holidays//NONSGML v1.0//EN
BEGIN:VEVENT
UID:b948e655-22ab-4a57-96cd-933e91ca3bce
DTSTAMP:20260422T164631Z
DTSTART;VALUE=DATE:20260216
SUMMARY:Lincoln's and Washington's Birthdays (États-Unis)
END:VEVENT
END:VCALENDAR