BEGIN:VCALENDAR
VERSION:2.0
PRODID:-//time.now/holidays//NONSGML v1.0//EN
BEGIN:VEVENT
UID:d6ea0254-65de-42fe-9abc-05f218fdfc61
DTSTAMP:20260420T201929Z
DTSTART;VALUE=DATE:20260703
SUMMARY:Independence Day (observed) (États-Unis)
END:VEVENT
END:VCALENDAR